BEGIN:VCALENDAR
VERSION:2.0
PRODID:-//wp-events-plugin.com//7.2.2.1//EN
TZID:Europe/Berlin
X-WR-TIMEZONE:Europe/Berlin
BEGIN:VEVENT
UID:1@fengshuifocus.com.sg
DTSTART;TZID=Europe/Berlin:20171026T190000
DTEND;TZID=Europe/Berlin:20171026T210000
DTSTAMP:20171004T004442Z
URL:https://fengshuifocus.com.sg/de/events/balance-decor-feng-shui/
SUMMARY:Balance your Decor with Feng Shui
DESCRIPTION:We are thrilled to host Lucy at The Cinnamon Room to enlighten 
 us on how we can use the ancient art of Feng Shui to balance our home deco
 r and enhance harmony\, health\, career luck and more.  Join us for an ins
 pirational session on how to create your own auspicious space at home!  RS
 VP to vishanelson@thecinnamonroom.com or text 97273051.
ATTACH;FMTTYPE=image/jpeg:https://fengshuifocus.com.sg/wp-content/uploads/
 2017/10/The-Cinnamon-Room-Oct-2017.jpg
CATEGORIES:Talk
LOCATION:The Cinnamon Roon\, 43 #02-74 Jalan Merah Saga\, Singapore\, 27811
 5\, Singapur
X-APPLE-STRUCTURED-LOCATION;VALUE=URI;X-ADDRESS=43 #02-74 Jalan Merah Saga\
 , Singapore\, 278115\, Singapur;X-APPLE-RADIUS=100;X-TITLE=The Cinnamon Ro
 on:geo:0,0
END:VEVENT
BEGIN:VTIMEZONE
TZID:Europe/Berlin
X-LIC-LOCATION:Europe/Berlin
BEGIN:DAYLIGHT
DTSTART:20170326T030000
TZOFFSETFROM:+0100
TZOFFSETTO:+0200
TZNAME:CEST
END:DAYLIGHT
END:VTIMEZONE
END:VCALENDAR